BEGIN:VCALENDAR
VERSION:2.0
PRODID:-//eventon.com NONSGML v1.0//EN
CALSCALE:GREGORIAN
METHOD:PUBLISH
BEGIN:VEVENT
UID:69ed32dc04091
DTSTAMP:20260425T213212Z
DTSTART:20260501T110000Z
DTEND:20260501T230000Z
LOCATION:RETRO MOUNTAIN P2CQ+J39\,  Ban Tai\,  Ko Pha-ngan District\,  Surat Thani 84280
SUMMARY:ARRIVAL - RETRO MOUNTAIN - 12-hour Sonic Evolution
DESCRIPTION:ARRIVAL — A 12 Hour Musical Journey + Secret Afterparty Step 
 into the portal and experience ARRIVAL\,  an immersive underground gatherin
 g at Retro Mountain Jungle Club\,  where jungle mysticism\,  deep frequenci
 es and psychedelic energy collide. Beginning at sunset and moving into sunr
 ise\,  journey through Techno → Psytech → Full Power[..]\nhttps://phang
 an.events/events/arrival-retro-mountain-12-hour-sonic-evolution/
URL:https://phangan.events/events/arrival-retro-mountain-12-hour-sonic-evolution/
END:VEVENT
END:VCALENDAR