BEGIN:VCALENDAR
VERSION:2.0
PRODID:-//eventon.com NONSGML v1.0//EN
CALSCALE:GREGORIAN
METHOD:PUBLISH
BEGIN:VEVENT
UID:69ed32dd275e2
DTSTAMP:20260425T213213Z
DTSTART:20260428T140000Z
DTEND:20260428T190000Z
LOCATION:Hooligan Bar &amp; Restaurant PX6P+8M Ko Pha-ngan\,  Ko Pha-ngan District\,  Surat Thani
SUMMARY:NECHKIN / ILYA GLITCH at HOOLIGAN
DESCRIPTION:NECHKIN / ILYA GLITCH at HOOLIGAN A night of raw energy and hyp
 notic sound is coming to Hooligan. Expect driving rhythms\,  deep grooves\,
   and a dancefloor that builds intensity from the first beat till late. Thi
 s one is all about the music — stripped back\,  focused\,  and made for t
 hose[..]\nhttps://phangan.events/events/nechkin-ilya-glitch-at-hooligan/
URL:https://phangan.events/events/nechkin-ilya-glitch-at-hooligan/
END:VEVENT
END:VCALENDAR