BEGIN:VCALENDAR
VERSION:2.0
PRODID:-//eventon.com NONSGML v1.0//EN
CALSCALE:GREGORIAN
METHOD:PUBLISH
BEGIN:VEVENT
UID:69ecb4c715e7e
DTSTAMP:20260425T123415Z
DTSTART:20260429T070000Z
DTEND:20260430T150000Z
LOCATION:The Wave Sunset QX96+MJ Ko Pha-ngan\,  Ko Pha-ngan District\,  Surat Thani
SUMMARY:Party X | Wave Sunset | 29 April
DESCRIPTION:PARTY X | WAVE SUNSET | WEDNESDAY 29.04 Gather at the shoreline
  for a premier sunset ritual where the music meets the tide in a celebratio
 n of pure island energy. Lineup TBA Wave Sunset\,  Koh Phangan Wednesday\, 
  29 April 2026 14:00 – 22:00 Tickets &#038; information: phangan.events C
 atch the perfect[..]\nhttps://phangan.events/events/party-x-wave-sunset-29-
 april/
URL:https://phangan.events/events/party-x-wave-sunset-29-april/
END:VEVENT
END:VCALENDAR