BEGIN:VCALENDAR
VERSION:2.0
PRODID:-//eventon.com NONSGML v1.0//EN
CALSCALE:GREGORIAN
METHOD:PUBLISH
BEGIN:VEVENT
UID:69eba9aa3ef32
DTSTAMP:20260424T173434Z
DTSTART:20260502T130000Z
DTEND:20260502T180000Z
LOCATION:SOUND GARDEN Sound Garden 79/21 M.1 St.Krungthai Koh Phangan\,  ตำบลเกาะพะงัน อำเภอเกาะพะงัน สุราษฎร์ธานี 84280
SUMMARY:PSY GARDEN
DESCRIPTION:PSY GARDEN &#8211; Saturday\,  2 May An intimate night in the c
 ity where sound takes over and time slows down. From sunset into late hours
 \,  expect hypnotic rhythms\,  uplifting energy\,  and a dancefloor that ke
 eps building. Small space\,  strong vibe\,  and music that pulls you in fro
 m the first beat.[..]\nhttps://phangan.events/events/psy-garden/
URL:https://phangan.events/events/psy-garden/
END:VEVENT
END:VCALENDAR