BEGIN:VCALENDAR
VERSION:2.0
PRODID:-//eventon.com NONSGML v1.0//EN
CALSCALE:GREGORIAN
METHOD:PUBLISH
BEGIN:VEVENT
UID:69ebb230802f4
DTSTAMP:20260424T181056Z
DTSTART:20260511T130000Z
DTEND:20260511T220000Z
LOCATION:RETRO MOUNTAIN P2CQ+J39\,  Ban Tai\,  Ko Pha-ngan District\,  Surat Thani 84280
SUMMARY:Sacred Pulse - Spirit of Highlands
DESCRIPTION:SACRED PULSE &#8211; Spirit of Highlands 🗓️ Monday\,  11 M
 ay 🕰️ 8PM → Dawn 📍 Retro Mountain ⛰️✨ Step into the heart o
 f the mountain and awaken your senses as we open a brand new jungle floor u
 nder the stars 🌟 Surrounded by nature\,  driven by deep rhythms\,  and g
 uided[..]\nhttps://phangan.events/events/sacred-pulse-spirit-of-highlands/
URL:https://phangan.events/events/sacred-pulse-spirit-of-highlands/
END:VEVENT
END:VCALENDAR