BEGIN:VCALENDAR
VERSION:2.0
PRODID:-//eventon.com NONSGML v1.0//EN
CALSCALE:GREGORIAN
METHOD:PUBLISH
BEGIN:VEVENT
UID:69ebc646540c7
DTSTAMP:20260424T193638Z
DTSTART:20260424T130000Z
DTEND:20260424T170000Z
LOCATION:WANN Koh Samui Ban Chaweng\,  main road\,  Tambon Bo Put\,  Ban Chaweng\,  Surat Thani 84320
SUMMARY:Karin Stepaniuk | WANN | FRIDAY 24 APRIL
DESCRIPTION:KARIN STEPANIUK | WANN | FRIDAY 24 APRIL Experience a seamless 
 fusion of fine dining and rhythmic energy as Karin Stepaniuk takes over for
  an evening of cocktails and deep electronic flows. Line-up: Karin Stepaniu
 k WANN Restaurant\,  Koh Samui Friday\,  24 April 2026 19:00 – Late Indul
 ge in the perfect[..]\nhttps://phangan.events/events/karin-stepaniuk-wann-f
 riday-24-april/
URL:https://phangan.events/events/karin-stepaniuk-wann-friday-24-april/
END:VEVENT
END:VCALENDAR