BEGIN:VCALENDAR
VERSION:2.0
PRODID:-//eventon.com NONSGML v1.0//EN
CALSCALE:GREGORIAN
METHOD:PUBLISH
BEGIN:VEVENT
UID:69ec2dcd2f852
DTSTAMP:20260425T025821Z
DTSTART:20260530T120000Z
DTEND:20260530T160000Z
LOCATION:Little Roma 19\,  2 Bandon-Cherngtalay Rd\,  Choeng Thale\,  Thalang District\,  Chang Wat Phuket 83110
SUMMARY:Little Roma\,  Phuket
DESCRIPTION:CIAO BELLA | LITTLE ROMA | EVERY SATURDAY Experience an elegant
  fusion of live instrumentation and curated beats while you indulge in an e
 vening of timeless Italian charm. Line-up: Live Saxophone &#038; DJ Set Lit
 tle Roma\,  Phuket Every Saturday 19:00 – Late Celebrate the weekend with
  a touch of class.\nhttps://phangan.events/events/little-roma-phuket/var/ri
 -5.l-L1
URL:https://phangan.events/events/little-roma-phuket/var/ri-5.l-L1
END:VEVENT
END:VCALENDAR