BEGIN:VCALENDAR
VERSION:2.0
PRODID:-//eventon.com NONSGML v1.0//EN
CALSCALE:GREGORIAN
METHOD:PUBLISH
BEGIN:VEVENT
UID:69ebc6f65d10b
DTSTAMP:20260424T193934Z
DTSTART:20260426T140000Z
DTEND:20260426T190000Z
LOCATION:Bar Temp. PGQ7+VW Bangkok
SUMMARY:SUNDAY 26 APRIL | BAR TEMP.
DESCRIPTION:RHOM OMIT | BAR TEMP. | SUNDAY 26 APRIL Experience an eclectic 
 fusion of sound and style at one of the city&#8217;s most intimate undergro
 und creative hubs. Line-up: Rhom Omit Bar Temp.\,  Bangkok Sunday\,  26 Apr
 il 2026 21:00 – Late Dive into the local rhythm.\nhttps://phangan.events/
 events/sunday-26-april-bar-temp/
URL:https://phangan.events/events/sunday-26-april-bar-temp/
END:VEVENT
END:VCALENDAR