BEGIN:VCALENDAR
VERSION:2.0
PRODID:-//eventon.com NONSGML v1.0//EN
CALSCALE:GREGORIAN
METHOD:PUBLISH
BEGIN:VEVENT
UID:69ebc4d5a1f22
DTSTAMP:20260424T193029Z
DTSTART:20260515T150000Z
DTEND:20260515T210000Z
LOCATION:
SUMMARY:SACRISTY PRESENTS EVE
DESCRIPTION:SACRISTY PRESENTS EVE | BANGKOK | FRIDAY 15 MAY Prepare for a h
 igh-velocity journey through the darkest edges of hard techno and industria
 l schranz. Line-up: EVE (JPN)\,  REIKS\,  PARSA (JPN)\,  MALAII.EXE\,  NØS
 YNC TBA\,  Bangkok Friday\,  15 May 2026 21:00 – Late Enter the void of t
 he industrial underground.\nhttps://phangan.events/events/sacristy-presents
 -eve/
URL:https://phangan.events/events/sacristy-presents-eve/
END:VEVENT
END:VCALENDAR