BEGIN:VCALENDAR
VERSION:2.0
PRODID:-//eventon.com NONSGML v1.0//EN
CALSCALE:GREGORIAN
METHOD:PUBLISH
BEGIN:VEVENT
UID:69ebc44d41063
DTSTAMP:20260424T192813Z
DTSTART:20260522T150000Z
DTEND:20260522T210000Z
LOCATION:Café Del Mar Phuket X76M+CH Kamala\,  Kathu District\,  Phuket
SUMMARY:AVÖ | CAFÉ DEL MAR | FRIDAY 22 MAY
DESCRIPTION:AVÖ | CAFÉ DEL MAR | FRIDAY 22 MAY Step into a night of world
 -class electronic sounds as one of the industry&#8217;s most compelling hea
 dliners takes control of the booth. Line-up: AVÖ\,  Eli Cicada Café Del M
 ar\,  Phuket Friday\,  22 May 2026 22:00 – Late Feel the rhythm of the[..
 ]\nhttps://phangan.events/events/avo-cafe-del-mar-friday-22-may/
URL:https://phangan.events/events/avo-cafe-del-mar-friday-22-may/
END:VEVENT
END:VCALENDAR