BEGIN:VCALENDAR
VERSION:2.0
PRODID:-//eventon.com NONSGML v1.0//EN
CALSCALE:GREGORIAN
METHOD:PUBLISH
BEGIN:VEVENT
UID:69ebb19975b2a
DTSTAMP:20260424T180825Z
DTSTART:20260402T160000Z
DTEND:20260402T210000Z
LOCATION:Dirty Rabbit Hidden Bar 23\,  11 Yen Akat Rd\,  Chong Nonsi\,  Yan Nawa\,  Bangkok 10120
SUMMARY:Lights Out Take Over
DESCRIPTION:LIGHTS OUT TAKE OVER | Dirty Rabbit | 02 May Prepare for an imm
 ersive underground journey as Lights Out takes over the second floor for a 
 night of relentless energy and heavy hitters. Line-up: Kid Massive\,  Mikey
  Mike Dirty Rabbit Underground\,  Bangkok Saturday\,  02 May 2026 Midnight 
 &#8211; Late Turn[..]\nhttps://phangan.events/events/lights-out-take-over/
URL:https://phangan.events/events/lights-out-take-over/
END:VEVENT
END:VCALENDAR