BEGIN:VCALENDAR
VERSION:2.0
PRODID:-//eventon.com NONSGML v1.0//EN
CALSCALE:GREGORIAN
METHOD:PUBLISH
BEGIN:VEVENT
UID:69e958e52a4ba
DTSTAMP:20260422T232525Z
DTSTART:20260502T070000Z
DTEND:20260502T150000Z
LOCATION:W Bangkok 106 N S Sathon Rd\,  Si Lom\,  Bang Rak\,  Bangkok 10500
SUMMARY:INNERBLOOM X SUNSET SPLASH
DESCRIPTION:INNERBLOOM X SUNSET SPLASH | W Bangkok | 02 May Dive into a pre
 mier poolside experience as the city skyline meets golden hour vibrations a
 nd a curated selection of house music. Line-up: Andre\,  Franziie\,  Estrel
 la\,  Wula\,  Brynna\,  Ben.G\,  Alpha\,  Deezydot W Bangkok\,  Bangkok Sat
 urday\,  02 May 2026 14:00 &#8211; 21:00[..]\nhttps://phangan.events/events
 /innerbloom-x-sunset-splash/
URL:https://phangan.events/events/innerbloom-x-sunset-splash/
END:VEVENT
END:VCALENDAR