BEGIN:VCALENDAR
VERSION:2.0
PRODID:-//eventon.com NONSGML v1.0//EN
CALSCALE:GREGORIAN
METHOD:PUBLISH
BEGIN:VEVENT
UID:69e958e02ecf9
DTSTAMP:20260422T232520Z
DTSTART:20260424T140000Z
DTEND:20260424T210000Z
LOCATION:Berlin BKK 5th fl room 503\,  107 Soi Sukhumvit 63\,  Khlong Tan Nuea\,  Watthana\,  Bangkok 10110
SUMMARY:Berlin Bangkok | 24 April
DESCRIPTION:BERLIN | Berlin Bangkok | 24 April Get ready to lose yourself i
 n a night of raw\,  analog energy as the city’s underground heavyweights 
 take over the decks. Line-up: K-MRK\,  TNZ\,  SHUHANDZ\,  AMWA Berlin Bangk
 ok\,  Bangkok Friday\,  24 April 2026 21:00 &#8211; Late Let the needle dro
 p and the rhythm[..]\nhttps://phangan.events/events/berlin-bangkok-24-april
 /
URL:https://phangan.events/events/berlin-bangkok-24-april/
END:VEVENT
END:VCALENDAR