BEGIN:VCALENDAR
VERSION:2.0
PRODID:-//eventon.com NONSGML v1.0//EN
CALSCALE:GREGORIAN
METHOD:PUBLISH
BEGIN:VEVENT
UID:69e984a42a807
DTSTAMP:20260423T023204Z
DTSTART:20260612T060000Z
DTEND:20260614T150000Z
LOCATION:Yodpiman Riverwalk ท่าเรือยอดพิมาน PFRW+C5C\,  Chakkraphet Rd\,  Wang Burapha Phirom\,  Phra Nakhon\,  Bangkok 10200
SUMMARY:LOOP MARKET: VOL. 01
DESCRIPTION:🔁 LOOP MARKET: VOL. 01 🔁 Slow down and step into the loop
 . Join us for a 3-day riverside experience at Yodpiman Riverwalk\,  where w
 e’re bringing together the best of vintage culture and sustainable style 
 by the Chao Phraya River. Expect a curated selection of &#8220;only good st
 uff&#8221;—from rare vintage[..]\nhttps://phangan.events/events/loop-mark
 et-vol-01/
URL:https://phangan.events/events/loop-market-vol-01/
END:VEVENT
END:VCALENDAR