BEGIN:VCALENDAR
VERSION:2.0
PRODID:-//eventon.com NONSGML v1.0//EN
CALSCALE:GREGORIAN
METHOD:PUBLISH
BEGIN:VEVENT
UID:69e958d87aa7c
DTSTAMP:20260422T232512Z
DTSTART:20260425T140000Z
DTEND:20260425T210000Z
LOCATION:Berlin BKK 5th fl room 503\,  107 Soi Sukhumvit 63\,  Khlong Tan Nuea\,  Watthana\,  Bangkok 10110
SUMMARY:PURE TECHNO REUNION
DESCRIPTION:PURE TECHNO REUNION | Berlin Bangkok | 25 April Prepare for an 
 immersive journey into the underground as the city’s finest selectors uni
 te for a night of relentless four-on-the-floor energy. Line-up: Optikz\,  J
 oyyly\,  Sam Laxton\,  Charlie Kwenta Berlin Bangkok\,  Bangkok Saturday\, 
  25 April 2026 21:00 &#8211; Late Release your spirit[..]\nhttps://phangan.
 events/events/pure-techno-reunion/
URL:https://phangan.events/events/pure-techno-reunion/
END:VEVENT
END:VCALENDAR