BEGIN:VCALENDAR
VERSION:2.0
PRODID:-//eventon.com NONSGML v1.0//EN
CALSCALE:GREGORIAN
METHOD:PUBLISH
BEGIN:VEVENT
UID:69e958cff1172
DTSTAMP:20260422T232503Z
DTSTART:20260424T165900Z
DTEND:20260424T230000Z
LOCATION:Dirty Rabbit Hidden Bar 23\,  11 Yen Akat Rd\,  Chong Nonsi\,  Yan Nawa\,  Bangkok 10120
SUMMARY:UN!X | Dirty Rabbit
DESCRIPTION:UN!X | Dirty Rabbit | 24 April Get ready to lose yourself in th
 e underground as the night takes a turn for the heavy with a raw and relent
 less after-midnight session. Line-up: UN!X\,  Hiro\,  Optikz Dirty Rabbit\,
   Bangkok Friday\,  24 April 2026 Midnight &#8211; Very Late Follow the rab
 bit down[..]\nhttps://phangan.events/events/unx-dirty-rabbit/
URL:https://phangan.events/events/unx-dirty-rabbit/
END:VEVENT
END:VCALENDAR