BEGIN:VCALENDAR
VERSION:2.0
PRODID:-//eventon.com NONSGML v1.0//EN
CALSCALE:GREGORIAN
METHOD:PUBLISH
BEGIN:VEVENT
UID:69e9856a9051a
DTSTAMP:20260423T023522Z
DTSTART:20260425T043000Z
DTEND:20260425T213000Z
LOCATION:elsewhere 9th floor\,  Trinity Complex\,  Soi Naradhiwas Rajanagarindra 3\,  Si Lom\,  Bang Rak\,  Bangkok 10500
SUMMARY:Elsewhere | 25 April
DESCRIPTION:RHOM OMIT | Elsewhere | 25 April Prepare for an immersive journ
 ey into the underground as cutting-edge selectors take over the Silom skyli
 ne for an intense late-night session. Line-up: .g\,  Rhom Omit\,  Rui Tang 
 Elsewhere (Trinity Complex)\,  Bangkok Saturday\,  25 April 2026 11:30 PM &
 #8211; Late Find yourself elsewhere in[..]\nhttps://phangan.events/events/e
 lsewhere-25-april/
URL:https://phangan.events/events/elsewhere-25-april/
END:VEVENT
END:VCALENDAR