BEGIN:VCALENDAR
VERSION:2.0
PRODID:-//eventon.com NONSGML v1.0//EN
CALSCALE:GREGORIAN
METHOD:PUBLISH
BEGIN:VEVENT
UID:69ebb0396d584
DTSTAMP:20260424T180233Z
DTSTART:20260425T140000Z
DTEND:20260425T200000Z
LOCATION:Baccarat Bangkok 88 Sukhumvit 24 Alley\,  Khlong Tan\,  Khlong Toei\,  Bangkok 10110
SUMMARY:ELI & FUR | Baccarat | 25 April
DESCRIPTION:ELI &#038; FUR | Baccarat | 25 April Prepare for an emotive jou
 rney through melodic house and techno as the world-renowned duo Eli &#038; 
 Fur takes over the booth for an unforgettable night. Line-up: Eli &#038; Fu
 r\,  Daron\,  K-MRK\,  John Budh\,  Seesounds Baccarat\,  Bangkok Saturday\
 ,  25 April 2026 21:00 &#8211;[..]\nhttps://phangan.events/events/eli-fur-b
 accarat-25-april/
URL:https://phangan.events/events/eli-fur-baccarat-25-april/
END:VEVENT
END:VCALENDAR