BEGIN:VCALENDAR
VERSION:2.0
PRODID:-//eventon.com NONSGML v1.0//EN
CALSCALE:GREGORIAN
METHOD:PUBLISH
BEGIN:VEVENT
UID:69e9ef9f5e5ca
DTSTAMP:20260423T100831Z
DTSTART:20260428T140000Z
DTEND:20260428T230000Z
LOCATION:Lighthouse 122 Lighthouse Bungalows \, Had Rin
SUMMARY:LIGHTHOUSE TUESDAY NIGHT 28 APRIL
DESCRIPTION:LIGHTHOUSE | Lighthouse Bungalows | 28 April Follow the beacon 
 to the edge of the sea for a legendary Tuesday night session that carries y
 ou from sunset all the way to sunrise. Line-up: Acrobat\,  Milla Lou\,  Adi
  Shabat\,  Peter G Lighthouse Bungalows (Leela Beach)\,  Koh Phangan Tuesda
 y\,  28 April 2026[..]\nhttps://phangan.events/events/lighthouse-tuesday-ni
 ght-28-april/
URL:https://phangan.events/events/lighthouse-tuesday-night-28-april/
END:VEVENT
END:VCALENDAR