BEGIN:VCALENDAR
VERSION:2.0
PRODID:-//eventon.com NONSGML v1.0//EN
CALSCALE:GREGORIAN
METHOD:PUBLISH
BEGIN:VEVENT
UID:69ea12400eaa5
DTSTAMP:20260423T123616Z
DTSTART:20260423T120000Z
DTEND:20260423T180000Z
LOCATION:SOUND GARDEN Sound Garden 79/21 M.1 St.Krungthai Koh Phangan\,  ตำบลเกาะพะงัน อำเภอเกาะพะงัน สุราษฎร์ธานี 84280
SUMMARY:DISCO GARDEN V2
DESCRIPTION:DISCO GARDEN V2 | Sound Garden | 23 April Get ready to shine un
 der the disco ball as the garden transforms into a high-energy dance floor 
 fueled by classic rhythms and modern grooves. Line-up: Castor\,  Serkan Ele
 s\,  David Chong\,  Disco Boi Sound Garden\,  Koh Phangan Thursday\,  23 Ap
 ril 2026 19:00[..]\nhttps://phangan.events/events/disco-garden-v2/
URL:https://phangan.events/events/disco-garden-v2/
END:VEVENT
END:VCALENDAR