BEGIN:VCALENDAR
VERSION:2.0
PRODID:-//eventon.com NONSGML v1.0//EN
CALSCALE:GREGORIAN
METHOD:PUBLISH
BEGIN:VEVENT
UID:69e8e75e618ff
DTSTAMP:20260422T152102Z
DTSTART:20260426T040000Z
DTEND:20260426T170000Z
LOCATION:Merkaba Beach Club 117 24 Ban Tai\,  Ko Pha-ngan District\,  Surat Thani 84280
SUMMARY:BEACH BUMS | Merkaba Beach Club
DESCRIPTION:BEACH BUMS | Merkaba Beach Club | 26 April Experience the ultim
 ate seaside ritual as sunset transitions into a night of driving rhythms an
 d coastal energy. Line-up: Mr. Grinch\,  Fulya\,  Franck\,  Dragos\,  Gera\
 ,  Fabrice Merkaba Beach Club\,  Koh Phangan Sunday\,  26 April 2026 11:00 
 AM — Midnight Lose yourself in[..]\nhttps://phangan.events/events/beach-b
 ums-merkaba-beach-club/
URL:https://phangan.events/events/beach-bums-merkaba-beach-club/
END:VEVENT
END:VCALENDAR