BEGIN:VCALENDAR
VERSION:2.0
PRODID:-//eventon.com NONSGML v1.0//EN
CALSCALE:GREGORIAN
METHOD:PUBLISH
BEGIN:VEVENT
UID:69e8ea9a1e576
DTSTAMP:20260422T153450Z
DTSTART:20260426T080000Z
DTEND:20260427T070000Z
LOCATION:Bambu Huts M3VG+95 Ban Tai\,  Ko Pha-ngan District\,  Surat Thani
SUMMARY:Baikal Nomads - Birthday Party
DESCRIPTION:BAIKAL NOMADS &#8211; BIRTHDAY PARTY A night in the jungle to c
 elebrate\,  connect\,  and dance under the stars. Baikal Nomads return with
  their anniversary gathering — bringing together music\,  people\,  and t
 hat warm\,  intimate energy that defines their events. Expect a cozy garden
  setting\,  deep sounds\,  and a crowd that[..]\nhttps://phangan.events/eve
 nts/baikal-nomads-birthday-party/
URL:https://phangan.events/events/baikal-nomads-birthday-party/
END:VEVENT
END:VCALENDAR