BEGIN:VCALENDAR
VERSION:2.0
PRODID:-//eventon.com NONSGML v1.0//EN
CALSCALE:GREGORIAN
METHOD:PUBLISH
BEGIN:VEVENT
UID:69e9023cc3338
DTSTAMP:20260422T171540Z
DTSTART:20260422T140000Z
DTEND:20260421T210000Z
LOCATION:Baccarat Bangkok 88 Sukhumvit 24 Alley\,  Khlong Tan\,  Khlong Toei\,  Bangkok 10110
SUMMARY:ESSENTIALS
DESCRIPTION:ESSENTIALS: HELANG | Baccarat | 22 April Dive into a night of e
 ssential grooves as Helang takes control of the floor for an uncompromising
  mid-week session. Line-up: Helang\,  Danny A.\,  Donnie Baccarat (The Davi
 s Hotel)\,  Bangkok Wednesday\,  22 April 2026 21:00 &#8211; Late Elevate y
 our night with the ultimate mid-week[..]\nhttps://phangan.events/events/ess
 entials/
URL:https://phangan.events/events/essentials/
END:VEVENT
END:VCALENDAR