BEGIN:VCALENDAR
VERSION:2.0
PRODID:-//eventon.com NONSGML v1.0//EN
CALSCALE:GREGORIAN
METHOD:PUBLISH
BEGIN:VEVENT
UID:69e9009288a9f
DTSTAMP:20260422T170834Z
DTSTART:20260424T140000Z
DTEND:20260425T090000Z
LOCATION:Sing Sing Theater 45 Sukhumvit 45 Alley\,  Khwaeng Khlong Tan Nuea\,  Watthana\,  Bangkok 10110
SUMMARY:JUNO - Sing Sing Theater
DESCRIPTION:JUNO — Sing Sing Theater — 24 April Expect a night of high-
 energy performance as JUNO takes the stage to deliver a seamless blend of s
 ophisticated beats and peak-time intensity. Line-up: JUNO\,  Andreas Vural 
 Sing Sing Theater\,  Bangkok Friday\,  24 April 2026 09:00 PM &#8211; Late 
 Experience the theater of[..]\nhttps://phangan.events/events/juno-sing-sing
 -theater/
URL:https://phangan.events/events/juno-sing-sing-theater/
END:VEVENT
END:VCALENDAR