BEGIN:VCALENDAR
VERSION:2.0
PRODID:-//eventon.com NONSGML v1.0//EN
CALSCALE:GREGORIAN
METHOD:PUBLISH
BEGIN:VEVENT
UID:69e7871186aef
DTSTAMP:20260421T141753Z
DTSTART:20260425T120000Z
DTEND:20260425T170000Z
LOCATION:yep listening bar PXGH+WC Ko Pha-ngan\,  Ko Pha-ngan District\,  Surat Thani
SUMMARY:Offgrid - Yep Listening Bar
DESCRIPTION:OFFGRID &#8211; YEP LISTENING BAR &#8211; 25 APRIL Unplug from 
 the ordinary and immerse yourself in a curated evening of high-fidelity sou
 nd and deep musical selection. Line-up: Joyboy\,  Sho Sho Yep Listening Bar
 \,  Koh Phangan Saturday\,  25 April 2026 19:00 &#8211; Midnight Go offgrid
  with us.\nhttps://phangan.events/events/offgrid-yep-listening-bar/
URL:https://phangan.events/events/offgrid-yep-listening-bar/
END:VEVENT
END:VCALENDAR