BEGIN:VCALENDAR
VERSION:2.0
PRODID:-//eventon.com NONSGML v1.0//EN
CALSCALE:GREGORIAN
METHOD:PUBLISH
BEGIN:VEVENT
UID:69e7842b95673
DTSTAMP:20260421T140531Z
DTSTART:20260427T100000Z
DTEND:20260427T170000Z
LOCATION:RETRO MOUNTAIN P2CQ+J39\,  Ban Tai\,  Ko Pha-ngan District\,  Surat Thani 84280
SUMMARY:SUNSET VIBES - RETRO MOUNTAIN JUNGLE CLUB
DESCRIPTION:SUNSET VIBES &#8211; RETRO MOUNTAIN JUNGLE CLUB &#8211; 27 APRI
 L Step into the heart of the tropical forest for a premium sunset experienc
 e where the music and jungle atmosphere truly come alive. Line-up: Farid (A
 fro House)\,  Fulix (Indie Dance)\,  Jaja Rouge (Tech House) Retro Mountain
  Jungle Club\,  Koh Phangan Monday\, [..]\nhttps://phangan.events/events/su
 nset-vibes-retro-mountain-jungle-club/
URL:https://phangan.events/events/sunset-vibes-retro-mountain-jungle-club/
END:VEVENT
END:VCALENDAR