BEGIN:VCALENDAR
VERSION:2.0
PRODID:-//eventon.com NONSGML v1.0//EN
CALSCALE:GREGORIAN
METHOD:PUBLISH
BEGIN:VEVENT
UID:69e7844119786
DTSTAMP:20260421T140553Z
DTSTART:20260424T163000Z
DTEND:20260424T210000Z
LOCATION:elsewhere 9th floor\,  Trinity Complex\,  Soi Naradhiwas Rajanagarindra 3\,  Si Lom\,  Bang Rak\,  Bangkok 10500
SUMMARY:Morsecode - Elsewhere - 24 April
DESCRIPTION:MORSECODE &#8211; ELSEWHERE &#8211; 24 APRIL Dive into a deep s
 onic exploration as the Morsecode crew brings a night of refined undergroun
 d rhythms to Silom’s hidden heights. Line-up: Dott\,  Slowmouth\,  Loveis
 yunneco Elsewhere (Trinity Complex)\,  Bangkok Friday\,  24 April 2026 Star
 t 11:30 PM &#8211; Late Entry 400 THB.\nhttps://phangan.events/events/morse
 code-elsewhere-24-april/
URL:https://phangan.events/events/morsecode-elsewhere-24-april/
END:VEVENT
END:VCALENDAR