BEGIN:VCALENDAR
VERSION:2.0
PRODID:-//eventon.com NONSGML v1.0//EN
CALSCALE:GREGORIAN
METHOD:PUBLISH
BEGIN:VEVENT
UID:69e7831609bc6
DTSTAMP:20260421T140054Z
DTSTART:20260423T140000Z
DTEND:20260423T190000Z
LOCATION:Bar Temp. PGQ7+VW Bangkok
SUMMARY:CIVIC BOYS - BAR TEMP.
DESCRIPTION:CIVIC BOYS &#8211; BAR TEMP. &#8211; 23 APRIL Join the Civic Bo
 ys crew for an energetic night of cutting-edge selections in the heart of B
 angkok’s underground scene. Line-up: D&#8217;Jong\,  Tunn\,  Yahidae Bar 
 Temp.\,  Bangkok Thursday\,  23 April 2026 Start Time &#8211; Late Entry 20
 0 THB.\nhttps://phangan.events/events/civic-boys-bar-temp/
URL:https://phangan.events/events/civic-boys-bar-temp/
END:VEVENT
END:VCALENDAR