BEGIN:VCALENDAR
VERSION:2.0
PRODID:-//eventon.com NONSGML v1.0//EN
CALSCALE:GREGORIAN
METHOD:PUBLISH
BEGIN:VEVENT
UID:69e7833ebaf92
DTSTAMP:20260421T140134Z
DTSTART:20260424T140000Z
DTEND:20260424T190000Z
LOCATION:12 x 12 810\,  22 Thara Rom 2 Alley\,  Khlong Tan Nuea\,  Watthana\,  Bangkok 10110
SUMMARY:QUALITY CONTROL
DESCRIPTION:QUALITY CONTROL &#8211; 12 X 12 &#8211; 24 APRIL Prepare for a 
 night of uncompromising underground sound as the Quality Control crew takes
  over the capital’s most intimate dancefloor. Line-up: Benjamin\,  Saotek
 nik\,  Gishiyama 12 x 12\,  Bangkok Friday\,  24 April 2026 Open 8 PM &#821
 1; Late Entry fee 200 THB.\nhttps://phangan.events/events/quality-control/
URL:https://phangan.events/events/quality-control/
END:VEVENT
END:VCALENDAR