BEGIN:VCALENDAR
VERSION:2.0
PRODID:-//eventon.com NONSGML v1.0//EN
CALSCALE:GREGORIAN
METHOD:PUBLISH
BEGIN:VEVENT
UID:69e9f059c9bc7
DTSTAMP:20260423T101137Z
DTSTART:20260426T050000Z
DTEND:20260426T190000Z
LOCATION:Bambu Huts M3VG+95 Ban Tai\,  Ko Pha-ngan District\,  Surat Thani
SUMMARY:Bambu huts Sunday Session 26 April
DESCRIPTION:BAMBU – The Sunday Session 26 April 2026 A monumental Sunday 
 with a special double feature and label takeover. Terrace: Saily Djuma Soun
 dsystem Special Guest Stevie Keys Garden Stage – Baikal Nomads Takeover: 
 Shaman + Marsy Unäm Serkan Eles Bemet x Laroz (live) DJ Kat Expect a journ
 ey from daytime[..]\nhttps://phangan.events/events/bambu-huts-sunday-sessio
 n-26-april/
URL:https://phangan.events/events/bambu-huts-sunday-session-26-april/
END:VEVENT
END:VCALENDAR