BEGIN:VCALENDAR
VERSION:2.0
PRODID:-//eventon.com NONSGML v1.0//EN
CALSCALE:GREGORIAN
METHOD:PUBLISH
BEGIN:VEVENT
UID:69e69c3224b4a
DTSTAMP:20260420T213546Z
DTSTART:20260425T080000Z
DTEND:20260425T150000Z
LOCATION:Bluerama Koh Phangan 162\,  1\,  Haad Pleayleam\,  Koh Phangan\,  Surat Thani 84280
SUMMARY:Sunset Pool Party at Bluerama
DESCRIPTION:Sunset Pool Party at Bluerama High above the island\,  where th
 e jungle meets the sea\,  Bluerama sets the scene for an open-air session b
 uilt around sunset energy and laid-back rhythms. From golden hour into the 
 night\,  expect a smooth flow of music\,  a vibrant crowd\,  and one of the
  best[..]\nhttps://phangan.events/events/sunset-pool-party-at-bluerama/
URL:https://phangan.events/events/sunset-pool-party-at-bluerama/
END:VEVENT
END:VCALENDAR