BEGIN:VCALENDAR
VERSION:2.0
PRODID:-//eventon.com NONSGML v1.0//EN
CALSCALE:GREGORIAN
METHOD:PUBLISH
BEGIN:VEVENT
UID:69e781f69e87b
DTSTAMP:20260421T135606Z
DTSTART:20260422T143200Z
DTEND:20260422T193200Z
LOCATION:Bar Temp. PGQ7+VW Bangkok
SUMMARY:VINYL NIGHT - BAR TEMP.
DESCRIPTION:VINYL NIGHT &#8211; BAR TEMP. &#8211; 22 APRIL Immerse yourself
  in the warm\,  authentic crackle of all-vinyl sets during a mid-week sessi
 on dedicated to pure analog sound. Line-up: Nava\,  Wisarut Bar Temp.\,  Ba
 ngkok Wednesday\,  22 April 2026 9pm &#8211; Late Free entry all night long
 .\nhttps://phangan.events/events/vinyl-night-bar-temp/
URL:https://phangan.events/events/vinyl-night-bar-temp/
END:VEVENT
END:VCALENDAR