BEGIN:VCALENDAR
VERSION:2.0
PRODID:-//eventon.com NONSGML v1.0//EN
CALSCALE:GREGORIAN
METHOD:PUBLISH
BEGIN:VEVENT
UID:69e786944af28
DTSTAMP:20260421T141548Z
DTSTART:20260424T130000Z
DTEND:20260424T190000Z
LOCATION:Sabaii Bay Beach Club 100/56\,  Koh Phangan\,  Ko Pha-ngan District\,  Surat Thani 84280
SUMMARY:Beach Party - Sabaii Bay Beach Club
DESCRIPTION:BEACH PARTY &#8211; SABAII BAY BEACH CLUB &#8211; 24 APRIL Expe
 rience the ultimate island vibe as we transition from a golden sunset sessi
 on into a high-energy night of beachside beats. Line-up: Eddie Pay (Birthda
 y Set)\,  Sacred Beat\,  Atman Ananda\,  Playin&#8217; Blind\,  Kyzersan\, 
  Lil Chai Sabaii Bay Beach Club\,  Koh Phangan[..]\nhttps://phangan.events/
 events/beach-party-sabaii-bay-beach-club-7/
URL:https://phangan.events/events/beach-party-sabaii-bay-beach-club-7/
END:VEVENT
END:VCALENDAR