BEGIN:VCALENDAR
VERSION:2.0
PRODID:-//eventon.com NONSGML v1.0//EN
CALSCALE:GREGORIAN
METHOD:PUBLISH
BEGIN:VEVENT
UID:69e69939b1636
DTSTAMP:20260420T212305Z
DTSTART:20260421T090000Z
DTEND:20260421T140000Z
LOCATION:Grasshopper bar at Zen beach QX46+WG9\,  Tambon Ko Pha-ngan\,  Ko Pha-ngan District\,  Surat Thani 84280
SUMMARY:SUNSET JOURNEY WITH KRIS NÃMI
DESCRIPTION:TUESDAY 21 APRIL SUNSET JOURNEY WITH KRIS NÃMI Extended Set 4P
 M &#8211; 9PM Let’s meet the beautiful sunset together ✨ Organic • Af
 ro • Melodic House Deep rhythms • Ocean breeze Grasshopper Bar\,  Zen B
 each\,  Koh Phangan\nhttps://phangan.events/events/sunset-journey-with-kris
 -nami/
URL:https://phangan.events/events/sunset-journey-with-kris-nami/
END:VEVENT
END:VCALENDAR