BEGIN:VCALENDAR
VERSION:2.0
PRODID:-//eventon.com NONSGML v1.0//EN
CALSCALE:GREGORIAN
METHOD:PUBLISH
BEGIN:VEVENT
UID:69e78648bc50d
DTSTAMP:20260421T141432Z
DTSTART:20260423T080000Z
DTEND:20260423T153000Z
LOCATION:Grasshopper bar at Zen beach QX46+WG9\,  Tambon Ko Pha-ngan\,  Ko Pha-ngan District\,  Surat Thani 84280
SUMMARY:HAPPY THURSDAY - ZEN BEACH - 23 APRIL
DESCRIPTION:HAPPY THURSDAY &#8211; ZEN BEACH &#8211; 23 APRIL Lose yourself
  in the ultimate sunset session as live rhythms and beachside grooves take 
 you from the afternoon sun into the magic of the night. Line-up: Bemet (Liv
 e)\,  Assaf Almog Zen Beach\,  Koh Phangan Thursday\,  23 April 2026 03:00 
 PM &#8211; Late[..]\nhttps://phangan.events/events/happy-thursday-zen-beach
 -23-april/
URL:https://phangan.events/events/happy-thursday-zen-beach-23-april/
END:VEVENT
END:VCALENDAR