BEGIN:VCALENDAR
VERSION:2.0
PRODID:-//eventon.com NONSGML v1.0//EN
CALSCALE:GREGORIAN
METHOD:PUBLISH
BEGIN:VEVENT
UID:69e783618a54a
DTSTAMP:20260421T140209Z
DTSTART:20260421T153000Z
DTEND:20260421T220000Z
LOCATION:Sound Club Samui 195 19 ตำบล บ่อผุด Tambon Bo Put\,  Ko Samui District\,  Surat Thani 84320
SUMMARY:WALLY LOPEZ 5.0 WORLD TOUR
DESCRIPTION:WALLY LOPEZ 5.0 WORLD TOUR &#8211; SOUND CLUB SAMUI &#8211; 25 
 APRIL Get ready for an electrifying Saturday night as a house music legend 
 takes over the decks for an unforgettable world tour performance. Line-up: 
 Wally Lopez Sound Club\,  Koh Samui Saturday\,  25 April 2026 Start 10:30 P
 M &#8211; Late[..]\nhttps://phangan.events/events/wally-lopez-5-0-world-tou
 r/
URL:https://phangan.events/events/wally-lopez-5-0-world-tour/
END:VEVENT
END:VCALENDAR