BEGIN:VCALENDAR
VERSION:2.0
PRODID:-//eventon.com NONSGML v1.0//EN
CALSCALE:GREGORIAN
METHOD:PUBLISH
BEGIN:VEVENT
UID:69e543349e18e
DTSTAMP:20260419T210348Z
DTSTART:20260423T090000Z
DTEND:20260423T170000Z
LOCATION:Secret Mountain P2C7+FM Ko Pha-ngan\,  Ko Pha-ngan District\,  Surat Thani
SUMMARY:This Thursday at Secret Mountain
DESCRIPTION:This Thursday at Secret Mountain A special journey through deep
 \,  hypnotic electronic sound with three standout artists. Line-up: Danny F
 aber (16:30â€“19:00) Anthony Middleton (19:00â€“21:30) Barak White (21:30â€
 “00:00) Expect emotional\,  dynamic sets rooted in house and techno culture
 . From Danny Faberâ€™s Berlin legacy to Anthony Middletonâ€™s deep\,  hypno
 tic journeys\,  and Barak[..]\nhttps://phangan.events/events/this-thursday-
 at-secret-mountain/
URL:https://phangan.events/events/this-thursday-at-secret-mountain/
END:VEVENT
END:VCALENDAR