BEGIN:VCALENDAR
VERSION:2.0
PRODID:-//eventon.com NONSGML v1.0//EN
CALSCALE:GREGORIAN
METHOD:PUBLISH
BEGIN:VEVENT
UID:69e5696da7a0d
DTSTAMP:20260419T234653Z
DTSTART:20260425T070000Z
DTEND:20260425T160000Z
LOCATION:Siam Healing Centre 94/3 Thong Sala\,  Surrat Thani Ko Pha-ngan\,  84280
SUMMARY:Art Tid Koh Market
DESCRIPTION:ART TID KOH MARKET A space where creativity takes over &#8211; 
 Art Tid Koh Market returns for two days of art\,  music\,  and island energ
 y that pulls you in and keeps you there. Wander through handmade pieces\,  
 discover local creators\,  enjoy live music\,  and move between food\,  wor
 kshops\,  and unexpected[..]\nhttps://phangan.events/events/art-tid-koh-mar
 ket/var/ri-1.l-L1
URL:https://phangan.events/events/art-tid-koh-market/var/ri-1.l-L1
END:VEVENT
END:VCALENDAR