BEGIN:VCALENDAR
VERSION:2.0
PRODID:-//eventon.com NONSGML v1.0//EN
CALSCALE:GREGORIAN
METHOD:PUBLISH
BEGIN:VEVENT
UID:69e88ce1d9c08
DTSTAMP:20260422T085457Z
DTSTART:20270211T090000Z
DTEND:20270213T110000Z
LOCATION:
SUMMARY:MODem Teaser Party Thailand 2027
DESCRIPTION:MO:DEM TEASER PARTY THAILAND 2027 — 3RD EDITION The signal re
 turns — stronger\,  deeper\,  and fully dialed into the jungle. Mo:Dem Te
 aser Party is back on Koh Phangan for its 3rd edition\,  bringing three day
 s and nights of immersive sound\,  connection\,  and raw atmosphere. After 
 two unforgettable gatherings\,  this next[..]\nhttps://phangan.events/event
 s/modem-teaser-party-thailand-2027/
URL:https://phangan.events/events/modem-teaser-party-thailand-2027/
END:VEVENT
END:VCALENDAR