BEGIN:VCALENDAR
VERSION:2.0
PRODID:-//eventon.com NONSGML v1.0//EN
CALSCALE:GREGORIAN
METHOD:PUBLISH
BEGIN:VEVENT
UID:69e8f8526ba57
DTSTAMP:20260422T163322Z
DTSTART:20260422T140000Z
DTEND:20260422T160000Z
LOCATION:Koh Tao Muay Thai and Boxing stadium 15\,  124 Sairee Rd\,  Tambon Ko Tao\,  Koh Tao\,  Surat Thani 84360
SUMMARY:KTM FIGHT NIGHT
DESCRIPTION:KTM FIGHT NIGHT | KOH TAO MUAY THAI | 22 APR Real fights\,  rea
 l energy — Fight Night at Koh Tao Boxing Stadium brings the raw spirit of
  Muay Thai to the island. From rising local talents to experienced fighters
 \,  expect explosive bouts\,  powerful strikes\,  and a crowd locked in[..]
 \nhttps://phangan.events/events/ktm-fight-night/
URL:https://phangan.events/events/ktm-fight-night/
END:VEVENT
END:VCALENDAR