BEGIN:VCALENDAR
VERSION:2.0
PRODID:-//eventon.com NONSGML v1.0//EN
CALSCALE:GREGORIAN
METHOD:PUBLISH
BEGIN:VEVENT
UID:69ea32e26d6c7
DTSTAMP:20260423T145530Z
DTSTART:20260403T140000Z
DTEND:20260403T210000Z
LOCATION:SUBWERK 2\,  1 และ 2/3 Decho Rd\,  Suriya Wong\,  Suriyawong\,  Bangkok 10500
SUMMARY:LucidWave at Subwerk Club
DESCRIPTION:Hard Techno Bangkok: LucidWave at Subwerk Club Rave Times prese
 nts a night of high-velocity Hard Techno and Hard Dance\,  pushing the limi
 ts from 150bpm to 160bpm. Experience the transformation of Subwerk Club wit
 h a new layout\,  an immersive lighting concept\,  and a dedicated boiler d
 ancefloor. Lineup: • LucidWave • TNZ[..]\nhttps://phangan.events/events
 /lucidwave-at-subwerk-club/
URL:https://phangan.events/events/lucidwave-at-subwerk-club/
END:VEVENT
END:VCALENDAR