BEGIN:VCALENDAR
VERSION:2.0
PRODID:-//eventon.com NONSGML v1.0//EN
CALSCALE:GREGORIAN
METHOD:PUBLISH
BEGIN:VEVENT
UID:69e9562057b96
DTSTAMP:20260422T231336Z
DTSTART:20260403T140000Z
DTEND:20260403T200000Z
LOCATION:Armania Phuket 11 Bangla Rd\,  Pa Tong\,  Kathu District\,  Phuket 83150
SUMMARY:DEBORAH DE LUCA at Armania in Phuket
DESCRIPTION:DEBORAH DE LUCA – ARMANIA PHUKET – 3 APRIL From the stages 
 of Awakenings to Phuket — Deborah De Luca lands at Armania for a high-ene
 rgy night driven by her signature techno sound. 📅 Friday\,  3 April 📍
  Armania\,  Phuket\nhttps://phangan.events/events/deborah-de-luca-at-armani
 a-in-phuket/
URL:https://phangan.events/events/deborah-de-luca-at-armania-in-phuket/
END:VEVENT
END:VCALENDAR