BEGIN:VCALENDAR
VERSION:2.0
PRODID:-//eventon.com NONSGML v1.0//EN
CALSCALE:GREGORIAN
METHOD:PUBLISH
BEGIN:VEVENT
UID:69e97a10b6708
DTSTAMP:20260423T014656Z
DTSTART:20260403T165900Z
DTEND:20260403T230000Z
LOCATION:Dirty Rabbit Hidden Bar 23\,  11 Yen Akat Rd\,  Chong Nonsi\,  Yan Nawa\,  Bangkok 10120
SUMMARY:AFTER MIDNIGHT – DIRTY RABBIT – 3 APRIL
DESCRIPTION:AFTER MIDNIGHT – DIRTY RABBIT – 3 APRIL When the night real
 ly begins — Casmalia takes over Dirty Rabbit for a late\,  underground se
 ssion built for those who don’t stop at midnight. Line-up: Casmalia Hiro 
 Optikz 📅 Friday\,  3 April 📍 Dirty Rabbit\,  Bangkok ⏱ From 00:00 t
 ill late\nhttps://phangan.events/events/after-midnight-dirty-rabbit-3-april
 /
URL:https://phangan.events/events/after-midnight-dirty-rabbit-3-april/
END:VEVENT
END:VCALENDAR