BEGIN:VCALENDAR
VERSION:2.0
PRODID:-//eventon.com NONSGML v1.0//EN
CALSCALE:GREGORIAN
METHOD:PUBLISH
BEGIN:VEVENT
UID:69e95c081b0db
DTSTAMP:20260422T233848Z
DTSTART:20260403T130000Z
DTEND:20260403T190000Z
LOCATION:Catch Restaurant PX8P+6JX\,  Ko Pha-ngan\,  Ko Pha-ngan District\,  Ko Pha-ngan\,  Pha-ngan\,  Surat Thani 84280
SUMMARY:NICHANAT - CATCH BEACH CLUB - 3 APRIL
DESCRIPTION:NICHANAT – CATCH BEACH CLUB – 3 APRIL Sunset fades\,  the l
 ights come up\,  and the vibe shifts — NICHANAT takes over Catch for a sm
 ooth\,  late-night session by the sea. 📅 Friday\,  3 April 📍 Catch Be
 ach Club\,  Phuket ⏱ From 21:00 Booking link in bio\nhttps://phangan.even
 ts/events/nichanat-catch-beach-club-3-april/
URL:https://phangan.events/events/nichanat-catch-beach-club-3-april/
END:VEVENT
END:VCALENDAR