BEGIN:VCALENDAR
VERSION:2.0
PRODID:-//eventon.com NONSGML v1.0//EN
CALSCALE:GREGORIAN
METHOD:PUBLISH
BEGIN:VEVENT
UID:69e961248af08
DTSTAMP:20260423T000036Z
DTSTART:20260404T130000Z
DTEND:20260404T190000Z
LOCATION:ARKbar beach Club Koh Samui 159 89 หมู่ที่ 2 ตำบล บ่อผุด Tambon Bo Put\,  Koh Samui\,  Surat Thani\,  Thailand
SUMMARY:ARKBAR PRESENTS RAFFO - ARK BAR BEACH CLUB
DESCRIPTION:ARKBAR PRESENTS RAFFO &#8211; ARK BAR BEACH CLUB &#8211; 04.04.
 2026 Gather on the sands of Samui for an electrified beach session where wo
 rld-class grooves and ocean breezes set the ultimate party tone. Line-up: R
 AFFO\,  DAVE DEVOTED\,  ALEX REDWHITE\,  SOUND BOGIE\,  TARO PICK 📅 Satu
 rday\,  04 April 📍 Ark Bar Beach[..]\nhttps://phangan.events/events/arkb
 ar-presents-raffo-ark-bar-beach-club/
URL:https://phangan.events/events/arkbar-presents-raffo-ark-bar-beach-club/
END:VEVENT
END:VCALENDAR