BEGIN:VCALENDAR
VERSION:2.0
PRODID:-//eventon.com NONSGML v1.0//EN
CALSCALE:GREGORIAN
METHOD:PUBLISH
BEGIN:VEVENT
UID:69e957b6153c5
DTSTAMP:20260422T232022Z
DTSTART:20260403T130000Z
DTEND:20260403T190000Z
LOCATION:ARKbar beach Club Koh Samui 159 89 หมู่ที่ 2 ตำบล บ่อผุด Tambon Bo Put\,  Koh Samui\,  Surat Thani\,  Thailand
SUMMARY:Electric Night at Ark Bar Beach Club
DESCRIPTION:PARTY WITH US &#8211; ARK BAR BEACH CLUB &#8211; 03.04.2026 Gat
 her your crew for an electric night of beachside beats as the sand transfor
 ms into the island&#8217;s hottest dance floor. Immerse yourself in the ult
 imate seaside celebration with free entry and a powerhouse lineup. Line-up:
  SOUND BOGIE\,  ALEX REDWHITE\,  RAFFO\, [..]\nhttps://phangan.events/event
 s/electric-night-at-ark-bar-beach-club/
URL:https://phangan.events/events/electric-night-at-ark-bar-beach-club/
END:VEVENT
END:VCALENDAR