BEGIN:VCALENDAR
VERSION:2.0
PRODID:-//eventon.com NONSGML v1.0//EN
CALSCALE:GREGORIAN
METHOD:PUBLISH
BEGIN:VEVENT
UID:69e95bb206bf0
DTSTAMP:20260422T233722Z
DTSTART:20260405T070000Z
DTEND:20260405T160000Z
LOCATION:SEEN Beach Club Samui G3C5+JG Koh Samui\,  Ko Samui District\,  Surat Thani
SUMMARY:EASTER BBQ
DESCRIPTION:EASTER BBQ – SEEN KOH SAMUI – 5 APRIL 2026 Beach vibes\,  B
 BQ\,  and a playful Sunday setup — SEEN brings a family-friendly Easter d
 ay with food\,  music\,  and a view you won’t rush to leave. 📅 Sunday\
 ,  5 April 📍 SEEN Club\,  Koh Samui\nhttps://phangan.events/events/easte
 r-bbq/
URL:https://phangan.events/events/easter-bbq/
END:VEVENT
END:VCALENDAR