BEGIN:VCALENDAR
VERSION:2.0
PRODID:-//eventon.com NONSGML v1.0//EN
CALSCALE:GREGORIAN
METHOD:PUBLISH
BEGIN:VEVENT
UID:69e849f205fdd
DTSTAMP:20260422T040922Z
DTSTART:20260404T150000Z
DTEND:20260404T210000Z
LOCATION:
SUMMARY:HARD TECHNO BANGKOK - SUBWERK CLUB - SAT 4 APRIL
DESCRIPTION:HARD TECHNO BANGKOK &#8211; SUBWERK CLUB &#8211; SAT 4 APRIL Ex
 perience the uncompromising energy of the underground as the city&#8217;s h
 eaviest hard techno collective takes over the warehouse. Line-up: DOZY\,  S
 AM LAXTON\,  KILLYX 📅 Saturday\,  04 April 📍 Subwerk Club\,  Bangkok 
 ⏱ 9pm-late Prepare for the industrial takeover.\nhttps://phangan.events/e
 vents/hard-techno-bangkok-subwerk-club-sat-4-april/
URL:https://phangan.events/events/hard-techno-bangkok-subwerk-club-sat-4-april/
END:VEVENT
END:VCALENDAR