BEGIN:VCALENDAR
VERSION:2.0
PRODID:-//eventon.com NONSGML v1.0//EN
CALSCALE:GREGORIAN
METHOD:PUBLISH
BEGIN:VEVENT
UID:69e847f52af6b
DTSTAMP:20260422T040053Z
DTSTART:20260404T070000Z
DTEND:20260404T180000Z
LOCATION:SEEN Beach Club Samui G3C5+JG Koh Samui\,  Ko Samui District\,  Surat Thani
SUMMARY:Deborah De Luca: Set Times & Essential Info - SEEN CLUB SAMUI
DESCRIPTION:Deborah De Luca: Set Times &#038; Essential Info &#8211; SEEN C
 LUB SAMUI Get ready for an uncompromising journey through techno. Please re
 view the official set times and entry protocols to ensure a seamless experi
 ence. Set Times: • 14:00 – 15:30: Andy Vier • 15:30 – 17:30: Subud 
 • 17:30 –[..]\nhttps://phangan.events/events/deborah-de-luca-set-times-
 essential-info-seen-club-samui/
URL:https://phangan.events/events/deborah-de-luca-set-times-essential-info-seen-club-samui/
END:VEVENT
END:VCALENDAR