BEGIN:VCALENDAR
VERSION:2.0
PRODID:-//eventon.com NONSGML v1.0//EN
CALSCALE:GREGORIAN
METHOD:PUBLISH
BEGIN:VEVENT
UID:69e84ac8ba272
DTSTAMP:20260422T041256Z
DTSTART:20260403T150000Z
DTEND:20260403T190000Z
LOCATION:CU Club Samui G3P4+5R Koh Samui\,  Ko Samui District\,  Surat Thani
SUMMARY:Friday Night Party with Lo Prana at CU Club
DESCRIPTION:Friday Night Party with Lo Prana at CU Club Start your weekend 
 at Koh Samui’s premier destination for electronic music. CU Club &#038; R
 estaurant presents a special Friday night session featuring guest DJ Lo Pra
 na\,  supported by our heavy-hitting roster of residents. Lineup: • Lo Pr
 ana (Special Guest DJ) •[..]\nhttps://phangan.events/events/friday-night-
 party-with-lo-prana-at-cu-club/
URL:https://phangan.events/events/friday-night-party-with-lo-prana-at-cu-club/
END:VEVENT
END:VCALENDAR